BEGIN:VCALENDAR
VERSION:2.0
PRODID:-//Domaine Terra Noé - ECPv5.16.2.1//NONSGML v1.0//EN
CALSCALE:GREGORIAN
METHOD:PUBLISH
X-ORIGINAL-URL:https://www.terra-noe.com
X-WR-CALDESC:évènements pour Domaine Terra Noé
REFRESH-INTERVAL;VALUE=DURATION:PT1H
X-Robots-Tag:noindex
X-PUBLISHED-TTL:PT1H
BEGIN:VTIMEZONE
TZID:Europe/Paris
BEGIN:DAYLIGHT
TZOFFSETFROM:+0100
TZOFFSETTO:+0200
TZNAME:CEST
DTSTART:20220327T010000
END:DAYLIGHT
BEGIN:STANDARD
TZOFFSETFROM:+0200
TZOFFSETTO:+0100
TZNAME:CET
DTSTART:20221030T010000
END:STANDARD
END:VTIMEZONE
BEGIN:VEVENT
DTSTART;TZID=Europe/Paris:20220129T100000
DTEND;TZID=Europe/Paris:20220129T203000
DTSTAMP:20260421T010555
CREATED:20211217T084230Z
LAST-MODIFIED:20220105T141009Z
UID:911-1643450400-1643488200@www.terra-noe.com
SUMMARY:Journée du Bio
DESCRIPTION:Orci varius natoque penatibus et magnis dis parturient montes\, nascetur ridiculus mus. Vivamus posuere ante tincidunt. \nOrci varius natoque penatibus et magnis dis parturient montes\, nascetur ridiculus mus. Vivamus posuere ante tincidunt.Orci varius natoque penatibus et magnis dis parturient montes\, nascetur ridiculus mus. Vivamus posuere ante tincidunt. Orci varius natoque penatibus et magnis dis parturient montes\, nascetur ridiculus mus. Vivamus posuere ante tincidunt.Orci varius natoque penatibus et magnis dis parturient montes\, nascetur ridiculus mus. Vivamus posuere ante tincidunt. Orci varius natoque penatibus et magnis dis parturient montes\, nascetur ridiculus mus. Vivamus posuere ante tincidunt. \nOrci varius natoque penatibus et magnis dis parturient montes\, nascetur ridiculus mus. Vivamus posuere ante tincidunt. \nOrci varius natoque penatibus et magnis dis parturient montes\, nascetur ridiculus mus. Vivamus posuere ante tincidunt. Orci varius natoque penatibus et magnis dis parturient montes\, nascetur ridiculus mus. Vivamus posuere ante tincidunt. Orci varius natoque penatibus et magnis dis parturient montes\, nascetur ridiculus mus. Vivamus posuere ante tincidunt. Orci varius natoque penatibus et magnis dis parturient montes\, nascetur ridiculus mus. Vivamus posuere ante tincidunt.
URL:https://www.terra-noe.com/evenement/salon-du-mariage-2/
LOCATION:Domaine Terra Noé\, 230 route de Saint-Germain\, Rochecolombe\, 07200\, France
CATEGORIES:Home
ATTACH;FMTTYPE=image/jpeg:https://www.terra-noe.com/wp-content/uploads/2020/11/vineyard-top-right-photo.jpg
END:VEVENT
END:VCALENDAR