BEGIN:VCALENDAR
VERSION:2.0
PRODID:-//Domaine Terra Noé - ECPv5.16.2.1//NONSGML v1.0//EN
CALSCALE:GREGORIAN
METHOD:PUBLISH
X-ORIGINAL-URL:https://www.terra-noe.com
X-WR-CALDESC:évènements pour Domaine Terra Noé
REFRESH-INTERVAL;VALUE=DURATION:PT1H
X-Robots-Tag:noindex
X-PUBLISHED-TTL:PT1H
BEGIN:VTIMEZONE
TZID:Europe/Paris
BEGIN:DAYLIGHT
TZOFFSETFROM:+0100
TZOFFSETTO:+0200
TZNAME:CEST
DTSTART:20220327T010000
END:DAYLIGHT
BEGIN:STANDARD
TZOFFSETFROM:+0200
TZOFFSETTO:+0100
TZNAME:CET
DTSTART:20221030T010000
END:STANDARD
END:VTIMEZONE
BEGIN:VEVENT
DTSTART;VALUE=DATE:20220511
DTEND;VALUE=DATE:20220512
DTSTAMP:20260420T180859
CREATED:20220219T171422Z
LAST-MODIFIED:20220902T133642Z
UID:1223-1652227200-1652313599@www.terra-noe.com
SUMMARY:Caveau Ephémère | Gratuit
DESCRIPTION:Dégustation – Vente – Bar à vin du Mardi au Jeudi de 14h à 21h30
URL:https://www.terra-noe.com/evenement/salon-du-mariage-3-3/
LOCATION:Domaine Terra Noé\, 230 route de Saint-Germain\, Rochecolombe\, 07200\, France
CATEGORIES:Visite
ATTACH;FMTTYPE=image/jpeg:https://www.terra-noe.com/wp-content/uploads/2022/01/web-Domaine-Terra-Noe_11628-mat.jpg
END:VEVENT
END:VCALENDAR